BEGIN:VCALENDAR
VERSION:2.0
PRODID:-//True Symmetry Brewing Co - ECPv6.15.20//NONSGML v1.0//EN
CALSCALE:GREGORIAN
METHOD:PUBLISH
X-WR-CALNAME:True Symmetry Brewing Co
X-ORIGINAL-URL:https://truesymmetry.beer
X-WR-CALDESC:Events for True Symmetry Brewing Co
REFRESH-INTERVAL;VALUE=DURATION:PT1H
X-Robots-Tag:noindex
X-PUBLISHED-TTL:PT1H
BEGIN:VTIMEZONE
TZID:America/Los_Angeles
BEGIN:DAYLIGHT
TZOFFSETFROM:-0800
TZOFFSETTO:-0700
TZNAME:PDT
DTSTART:20230312T100000
END:DAYLIGHT
BEGIN:STANDARD
TZOFFSETFROM:-0700
TZOFFSETTO:-0800
TZNAME:PST
DTSTART:20231105T090000
END:STANDARD
BEGIN:DAYLIGHT
TZOFFSETFROM:-0800
TZOFFSETTO:-0700
TZNAME:PDT
DTSTART:20240310T100000
END:DAYLIGHT
BEGIN:STANDARD
TZOFFSETFROM:-0700
TZOFFSETTO:-0800
TZNAME:PST
DTSTART:20241103T090000
END:STANDARD
BEGIN:DAYLIGHT
TZOFFSETFROM:-0800
TZOFFSETTO:-0700
TZNAME:PDT
DTSTART:20250309T100000
END:DAYLIGHT
BEGIN:STANDARD
TZOFFSETFROM:-0700
TZOFFSETTO:-0800
TZNAME:PST
DTSTART:20251102T090000
END:STANDARD
END:VTIMEZONE
BEGIN:VEVENT
DTSTART;TZID=America/Los_Angeles:20240724T180000
DTEND;TZID=America/Los_Angeles:20240724T210000
DTSTAMP:20260419T235058
CREATED:20240228T194706Z
LAST-MODIFIED:20240228T215918Z
UID:10000088-1721844000-1721854800@truesymmetry.beer
SUMMARY:Pickup Table Games (Chess\, Board\, etc) Thursday
DESCRIPTION:
URL:https://truesymmetry.beer/event/pickup-table-games-chess-board-etc-thursday/2024-07-24/
END:VEVENT
BEGIN:VEVENT
DTSTART;TZID=America/Los_Angeles:20240724T183000
DTEND;TZID=America/Los_Angeles:20240724T210000
DTSTAMP:20260419T235058
CREATED:20240216T012346Z
LAST-MODIFIED:20240228T193627Z
UID:10000157-1721845800-1721854800@truesymmetry.beer
SUMMARY:Music Bingo Wednesday
DESCRIPTION:
URL:https://truesymmetry.beer/event/music-bingo/2024-07-24/
END:VEVENT
END:VCALENDAR