BEGIN:VCALENDAR
VERSION:2.0
PRODID:-//True Symmetry Brewing Co - ECPv6.15.20//NONSGML v1.0//EN
CALSCALE:GREGORIAN
METHOD:PUBLISH
X-ORIGINAL-URL:https://truesymmetry.beer
X-WR-CALDESC:Events for True Symmetry Brewing Co
REFRESH-INTERVAL;VALUE=DURATION:PT1H
X-Robots-Tag:noindex
X-PUBLISHED-TTL:PT1H
BEGIN:VTIMEZONE
TZID:America/Los_Angeles
BEGIN:DAYLIGHT
TZOFFSETFROM:-0800
TZOFFSETTO:-0700
TZNAME:PDT
DTSTART:20230312T100000
END:DAYLIGHT
BEGIN:STANDARD
TZOFFSETFROM:-0700
TZOFFSETTO:-0800
TZNAME:PST
DTSTART:20231105T090000
END:STANDARD
BEGIN:DAYLIGHT
TZOFFSETFROM:-0800
TZOFFSETTO:-0700
TZNAME:PDT
DTSTART:20240310T100000
END:DAYLIGHT
BEGIN:STANDARD
TZOFFSETFROM:-0700
TZOFFSETTO:-0800
TZNAME:PST
DTSTART:20241103T090000
END:STANDARD
BEGIN:DAYLIGHT
TZOFFSETFROM:-0800
TZOFFSETTO:-0700
TZNAME:PDT
DTSTART:20250309T100000
END:DAYLIGHT
BEGIN:STANDARD
TZOFFSETFROM:-0700
TZOFFSETTO:-0800
TZNAME:PST
DTSTART:20251102T090000
END:STANDARD
END:VTIMEZONE
BEGIN:VEVENT
DTSTART;TZID=America/Los_Angeles:20241016T180000
DTEND;TZID=America/Los_Angeles:20241016T210000
DTSTAMP:20260419T105658
CREATED:20240228T194706Z
LAST-MODIFIED:20240228T215918Z
UID:10000112-1729101600-1729112400@truesymmetry.beer
SUMMARY:Pickup Table Games (Chess\, Board\, etc) Thursday
DESCRIPTION:
URL:https://truesymmetry.beer/event/pickup-table-games-chess-board-etc-thursday/2024-10-16/
END:VEVENT
BEGIN:VEVENT
DTSTART;TZID=America/Los_Angeles:20241016T183000
DTEND;TZID=America/Los_Angeles:20241016T210000
DTSTAMP:20260419T105658
CREATED:20240216T012346Z
LAST-MODIFIED:20240228T193627Z
UID:10000169-1729103400-1729112400@truesymmetry.beer
SUMMARY:Music Bingo Wednesday
DESCRIPTION:
URL:https://truesymmetry.beer/event/music-bingo/2024-10-16/
END:VEVENT
END:VCALENDAR