BEGIN:VCALENDAR
VERSION:2.0
PRODID:-//True Symmetry Brewing Co - ECPv6.15.20//NONSGML v1.0//EN
CALSCALE:GREGORIAN
METHOD:PUBLISH
X-WR-CALNAME:True Symmetry Brewing Co
X-ORIGINAL-URL:https://truesymmetry.beer
X-WR-CALDESC:Events for True Symmetry Brewing Co
REFRESH-INTERVAL;VALUE=DURATION:PT1H
X-Robots-Tag:noindex
X-PUBLISHED-TTL:PT1H
BEGIN:VTIMEZONE
TZID:America/Los_Angeles
BEGIN:DAYLIGHT
TZOFFSETFROM:-0800
TZOFFSETTO:-0700
TZNAME:PDT
DTSTART:20240310T100000
END:DAYLIGHT
BEGIN:STANDARD
TZOFFSETFROM:-0700
TZOFFSETTO:-0800
TZNAME:PST
DTSTART:20241103T090000
END:STANDARD
BEGIN:DAYLIGHT
TZOFFSETFROM:-0800
TZOFFSETTO:-0700
TZNAME:PDT
DTSTART:20250309T100000
END:DAYLIGHT
BEGIN:STANDARD
TZOFFSETFROM:-0700
TZOFFSETTO:-0800
TZNAME:PST
DTSTART:20251102T090000
END:STANDARD
BEGIN:DAYLIGHT
TZOFFSETFROM:-0800
TZOFFSETTO:-0700
TZNAME:PDT
DTSTART:20260308T100000
END:DAYLIGHT
BEGIN:STANDARD
TZOFFSETFROM:-0700
TZOFFSETTO:-0800
TZNAME:PST
DTSTART:20261101T090000
END:STANDARD
END:VTIMEZONE
BEGIN:VEVENT
DTSTART;TZID=America/Los_Angeles:20250329T120000
DTEND;TZID=America/Los_Angeles:20250329T160000
DTSTAMP:20260419T105536
CREATED:20250205T022100Z
LAST-MODIFIED:20250222T181113Z
UID:10002943-1743249600-1743264000@truesymmetry.beer
SUMMARY:🍻Spring Brews Fest - Hop Grenade Concord
DESCRIPTION:
URL:https://truesymmetry.beer/event/spring-brews-fest-hop-grenade-concord/
END:VEVENT
BEGIN:VEVENT
DTSTART;TZID=America/Los_Angeles:20250329T200000
DTEND;TZID=America/Los_Angeles:20250329T220000
DTSTAMP:20260419T105536
CREATED:20250205T013017Z
LAST-MODIFIED:20250205T020251Z
UID:10000990-1743278400-1743285600@truesymmetry.beer
SUMMARY:😂 Last Saturday Comedy Show @ TSB
DESCRIPTION:
URL:https://truesymmetry.beer/event/last-saturday-comedy-show-tsb-3/
CATEGORIES:Comedy Show
END:VEVENT
END:VCALENDAR