BEGIN:VCALENDAR
VERSION:2.0
PRODID:-//True Symmetry Brewing Co - ECPv6.15.20//NONSGML v1.0//EN
CALSCALE:GREGORIAN
METHOD:PUBLISH
X-WR-CALNAME:True Symmetry Brewing Co
X-ORIGINAL-URL:https://truesymmetry.beer
X-WR-CALDESC:Events for True Symmetry Brewing Co
REFRESH-INTERVAL;VALUE=DURATION:PT1H
X-Robots-Tag:noindex
X-PUBLISHED-TTL:PT1H
BEGIN:VTIMEZONE
TZID:America/Los_Angeles
BEGIN:DAYLIGHT
TZOFFSETFROM:-0800
TZOFFSETTO:-0700
TZNAME:PDT
DTSTART:20240310T100000
END:DAYLIGHT
BEGIN:STANDARD
TZOFFSETFROM:-0700
TZOFFSETTO:-0800
TZNAME:PST
DTSTART:20241103T090000
END:STANDARD
BEGIN:DAYLIGHT
TZOFFSETFROM:-0800
TZOFFSETTO:-0700
TZNAME:PDT
DTSTART:20250309T100000
END:DAYLIGHT
BEGIN:STANDARD
TZOFFSETFROM:-0700
TZOFFSETTO:-0800
TZNAME:PST
DTSTART:20251102T090000
END:STANDARD
BEGIN:DAYLIGHT
TZOFFSETFROM:-0800
TZOFFSETTO:-0700
TZNAME:PDT
DTSTART:20260308T100000
END:DAYLIGHT
BEGIN:STANDARD
TZOFFSETFROM:-0700
TZOFFSETTO:-0800
TZNAME:PST
DTSTART:20261101T090000
END:STANDARD
END:VTIMEZONE
BEGIN:VEVENT
DTSTART;TZID=America/Los_Angeles:20250828T080000
DTEND;TZID=America/Los_Angeles:20250828T170000
DTSTAMP:20260419T235049
CREATED:20250815T205614Z
LAST-MODIFIED:20251122T203356Z
UID:10003903-1756368000-1756400400@truesymmetry.beer
SUMMARY:🤠 Line Dancing Thursdays
DESCRIPTION:Lessons included.
URL:https://truesymmetry.beer/event/%f0%9f%a4%a0-line-dancing-thursdays/2025-08-28/1/
CATEGORIES:Line Dancing
END:VEVENT
BEGIN:VEVENT
DTSTART;TZID=America/Los_Angeles:20250828T180000
DTEND;TZID=America/Los_Angeles:20250828T210000
DTSTAMP:20260419T235049
CREATED:20250815T205614Z
LAST-MODIFIED:20251122T203356Z
UID:10003570-1756404000-1756414800@truesymmetry.beer
SUMMARY:🤠 Line Dancing Thursdays
DESCRIPTION:Lessons included.
URL:https://truesymmetry.beer/event/%f0%9f%a4%a0-line-dancing-thursdays/2025-08-28/2/
CATEGORIES:Line Dancing
END:VEVENT
END:VCALENDAR